BEGIN:VCALENDAR
VERSION:2.0
PRODID:-//Ecole Primaire Sainte Marie - ECPv6.15.13.1//NONSGML v1.0//EN
CALSCALE:GREGORIAN
METHOD:PUBLISH
X-WR-CALNAME:Ecole Primaire Sainte Marie
X-ORIGINAL-URL:https://www.ecoleprimairesaintemarie.fr
X-WR-CALDESC:Évènements pour Ecole Primaire Sainte Marie
REFRESH-INTERVAL;VALUE=DURATION:PT1H
X-Robots-Tag:noindex
X-PUBLISHED-TTL:PT1H
BEGIN:VTIMEZONE
TZID:Europe/Paris
BEGIN:DAYLIGHT
TZOFFSETFROM:+0100
TZOFFSETTO:+0200
TZNAME:CEST
DTSTART:20240331T010000
END:DAYLIGHT
BEGIN:STANDARD
TZOFFSETFROM:+0200
TZOFFSETTO:+0100
TZNAME:CET
DTSTART:20241027T010000
END:STANDARD
BEGIN:DAYLIGHT
TZOFFSETFROM:+0100
TZOFFSETTO:+0200
TZNAME:CEST
DTSTART:20250330T010000
END:DAYLIGHT
BEGIN:STANDARD
TZOFFSETFROM:+0200
TZOFFSETTO:+0100
TZNAME:CET
DTSTART:20251026T010000
END:STANDARD
BEGIN:DAYLIGHT
TZOFFSETFROM:+0100
TZOFFSETTO:+0200
TZNAME:CEST
DTSTART:20260329T010000
END:DAYLIGHT
BEGIN:STANDARD
TZOFFSETFROM:+0200
TZOFFSETTO:+0100
TZNAME:CET
DTSTART:20261025T010000
END:STANDARD
END:VTIMEZONE
BEGIN:VEVENT
DTSTART;TZID=Europe/Paris:20250916T180000
DTEND;TZID=Europe/Paris:20250916T190000
DTSTAMP:20260422T142215
CREATED:20250904T125317Z
LAST-MODIFIED:20250913T194406Z
UID:1559-1758045600-1758049200@www.ecoleprimairesaintemarie.fr
SUMMARY:Rencontre de classe M1 et M5
DESCRIPTION:classes M1 (Anne) et M5 (Cécile)
URL:https://www.ecoleprimairesaintemarie.fr/index.php/event/rencontre-de-classe-m1-et-m5/
LOCATION:Site de l’école maternelle\, 5 rue Amaury d’Acigné\, Saint Etienne de Montluc\, 44360\, France
CATEGORIES:Actualités
ATTACH;FMTTYPE=image/jpeg:https://www.ecoleprimairesaintemarie.fr/wp-content/uploads/2025/09/Rencontre-parents-professeurs-570x342-1.jpg
END:VEVENT
END:VCALENDAR